Workbook

Sheet Sheet1
A1: 焦作市2026年消费品以旧换新家电类参与主体名单（第四批）
A2: 序号 | B2: 区县(市) | C2: 公司(商家)营业执照名称 | D2: 纳税人识别号 | E2: 企业性质 | F2: 企业规模 | G2: 所属集团 | H2: 注册登记时间 | I2: 注册登记地址 | J2: 门店营业执照名称 | K2: 纳税人识别号 | L2: 注册登记时间 | M2: 门店门头名称 | N2: 门店注册登记地址
A3: 1 | B3: 孟州市 | C3: 孟州市叁仟建筑装修工程有限公司 | D3: 91410883MA9NMA3L2D | E3: 私营企业 | F3: 小型 | G3: 无 | H3: 44979 | I3: 孟州市大定街道枫墅湾住宅小区S1号楼298-30-1号 | J3: 孟州市叁仟建筑装修工程有限公司 | K3: 91410883MA9NMA3L2D | L3: 44979 | M3: 索菲亚全屋定制 | N3: 孟州市大定街道枫墅湾住宅小区S1号楼298-30-1号
A4: 2 | B4: 孟州市 | C4: 孟州市晓畅耀电器有限责任公司 | D4: 91410883MAK4PW8P6A | E4: 私营企业 | F4: 微型 | G4: 无 | H4: 46038 | I4: 河南省焦作市孟州市河雍街道合欢路北段33号 | J4: 孟州市晓畅耀电器有限责任公司 | K4: 91410883MAK4PW8P6A | L4: 46038 | M4: 海信爱家服务店 | N4: 河南省焦作市孟州市河雍街道合欢路北段33号
A5: 3 | B5: 孟州市 | C5: 焦作市长易商贸有限公司 | D5: 91410883MAEJWDJD7B | E5: 私营企业 | F5: 微型 | G5: 无 | H5: 45789 | I5: 河南省孟州市大定街道韩愈大道中段北侧威克瑞商业步行街B区119-1号 | J5: 焦作市长易商贸有限公司 | K5: 91410883MAEJWDJD7B | L5: 45789 | M5: 步行街苹果专卖店 | N5: 河南省孟州市大定街道韩愈大道中段北侧威克瑞商业步行街B区119-1号
A6: 4 | B6: 孟州市 | C6: 孟州市六敏家电有限公司 | D6: 91410883MAECPY6A29 | E6: 私营企业 | F6: 小型 | G6: 无 | H6: 45722 | I6: 孟州市大定街道梧桐南路鹏程花园北小院 | J6: 孟州市六敏家电有限公司 | K6: 91410883MAECPY6A29 | L6: 45722 | M6: 美的 | N6: 孟州市大定街道梧桐南路鹏程花园北小院
A7: 5 | B7: 博爱县 | C7: 博爱县鹏哲家电门市部（个体工商户） | D7: 92410822MAEFFKQY6C | E7: 个体工商户 | F7: 微型 | G7: 无 | H7: 45748 | I7: 河南省焦作市博爱县鸿昌街道江南小区1718号门面房 | J7: 博爱县鹏哲家电门市部（个体工商户） | K7: 92410822MAEFFKQY6C | L7: 45748 | M7: 美的中央空调 | N7: 河南省焦作市博爱县鸿昌街道江南小区1718号门面房
A8: 6 | B8: 博爱县 | C8: 博爱县万和燃具专卖店 | D8: 92410822MA420X1TXH | E8: 个体工商户 | F8: 微型 | G8: 无 | H8: 41148 | I8: 博爱县鸿昌街道办事处文化路中段马营新村6号楼49号 | J8: 博爱县万和燃具专卖店 | K8: 92410822MA420X1TXH | L8: 41148 | M8: 万和 | N8: 博爱县鸿昌街道办事处文化路中段马营新村6号楼49号
A9: 7 | B9: 博爱县 | C9: 博爱县信然家用电器店 | D9: 92410822MA9FHLC03P | E9: 个体工商户 | F9: 微型 | G9: 无 | H9: 44047 | I9: 河南省博爱县鸿昌街道办事处团结路与文化路交叉口往西50米路北 | J9: 博爱县信然家用电器店 | K9: 92410822MA9FHLC03P | L9: 44047 | M9: 方太 | N9: 河南省博爱县鸿昌街道办事处团结路与文化路交叉口往西50米路北
A10: 8 | B10: 博爱县 | C10: 博爱县丰联电子商务有限公司 | D10: 91410822MA4429XR49 | E10: 私营企业 | F10: 微型 | G10: 无 | H10: 42893 | I10: 博爱县许良镇许良卫生院南门往西100米路北 | J10: 博爱县丰联电子商务有限公司 | K10: 91410822MA4429XR49 | L10: 42893 | M10: 京东家电专卖店 | N10: 博爱县许良镇许良卫生院南门往西100米路北
A11: 9 | B11: 修武县 | C11: 修武县领跃通讯店（个体工商户） | D11: 92410821MAEUQLY99F | E11: 个体工商户 | F11: 微型 | G11: 无 | H11: 45916 | I11: 河南省焦作市修武县城关镇环城西路142号 | J11: 修武县领跃通讯店（个体工商户） | K11: 92410821MAEUQLY99F | L11: 45916 | M11: 荣耀授权专卖店 | N11: 河南省焦作市修武县城关镇环城西路142号
A12: 10 | B12: 修武县 | C12: 修武县恒雨厨房电器部 | D12: 92410821MA45PCE74T | E12: 个体工商户 | F12: 微型 | G12: 无 | H12: 45398 | I12: 修武县城关镇健康路东段路南1号 | J12: 修武县恒雨厨房电器部 | K12: 92410821MA45PCE74T | L12: 45398 | M12: 林内安吉尔 | N12: 修武县城关镇健康路东段路南1号
A13: 11 | B13: 修武县 | C13: 修武县汇丰家电部 | D13: 92410821MA41CRKG2Q | E13: 个体工商户 | F13: 微型 | G13: 无 | H13: 39959 | I13: 河南省修武县 | J13: 修武县汇丰家电部 | K13: 92410821MA41CRKG2Q | L13: 39959 | M13: 美的智慧家 | N13: 修武县商厦对面
A14: 12 | B14: 修武县 | C14: 修武县家军厨房电器部 | D14: 92410821MA43RG972F | E14: 个体工商户 | F14: 微型 | G14: 无 | H14: 42664 | I14: 修武县城关镇健康路中段路南北门村4号 | J14: 修武县家军厨房电器部 | K14: 92410821MA43RG972F | L14: 42664 | M14: 老板电器 | N14: 修武县城关镇健康路中段路南北门村4号
... A24: 22 | B24: 修武县 | C24: 修武县苏燕厨卫店 | D24: 92410821MA43CBN84P | E24: 个体工商户 | F24: 微型 | G24: 无 | H24: 42298 | I24: 河南省焦作市修武县城关镇健康路修美小学东200米路南00号 | J24: 修武县苏燕厨卫店 | K24: 92410821MA43CBN84P | L24: 42298 | M24: 天猫优品理想厨房 | N24: 河南省焦作市修武县城关镇健康路修美小学东200米路南00号
A25: 23 | B25: 修武县 | C25: 修武县格鑫电器门市部（个体工商户） | D25: 92410821MAK20BEM45 | E25: 个体工商户 | F25: 微型 | G25: 无 | H25: 46000 | I25: 修武县五里源村大街 | J25: 修武县格鑫电器门市部（个体工商户） | K25: 92410821MAK20BEM45 | L25: 2025年12月9号 | M25: 海尔冰箱.冷柜洗衣机 | N25: 修武县五里源村大街
A26: 24 | B26: 修武县 | C26: 修武县思索未来空间装饰工程有限公司 | D26: 91410821MA9FGHFF92 | E26: 个体工商户 | F26: 微型 | G26: 无 | H26: 44041 | I26: 修武县城关镇健康路东段路南 | J26: 修武县思索未来空间装饰工程有限公司 | K26: 91410821MA9FGHFF92 | L26: 44041 | M26: 索菲亚整家定制 | N26: 修武县城关镇健康路东段路南
A27: 25 | B27: 修武县 | C27: 修武县达发电器商行 | D27: 92410821MA474NFJ6C | E27: 个体工商户 | F27: 微型 | G27: 无 | H27: 43668 | I27: 修武县七贤镇方庄大街东段路北88号 | J27: 修武县达发电器商行 | K27: 92410821MA474NFJ6C | L27: 43668 | M27: 美的智慧家 | N27: 修武县七贤镇方庄大街东段路北88号
A28: 26 | B28: 解放区 | C28: 焦作市解放区宇爽家电店（个体工商户） | D28: 92410802MAK580UW4U | E28: 个体工商户 | F28: 微型 | G28: 无 | H28: 46049 | I28: 河南省焦作市解放区民生街道解放中路1163号焦作市百货大楼有限责任公司家电超市店一楼商场第1-7号 | J28: 焦作市解放区宇爽家电店（个体工商户） | K28: 92410802MAK580UW4U | L28: 46049 | M28: 容声冰箱专柜 | N28: 河南省焦作市解放区民生街道解放中路1163号焦作市百货大楼有限责任公司家电超市店一楼商场第1-7号
A29: 27 | B29: 解放区 | C29: 焦作市汇弘升商贸有限公司 | D29: 91410802MAK66EYC4P | E29: 私营企业 | F29: 微型 | G29: 无 | H29: 46052 | I29: 河南省焦作市解放区解放中路1015-1号焦作市百货大楼有限责任公司手机城商场第1号 | J29: 焦作市汇弘升商贸有限公司 | K29: 91410802MAK66EYC4P | L29: 46052 | M29: 汇弘升商贸 | N29: 河南省焦作市解放区解放中路1015-1号焦作市百货大楼有限责任公司手机城商场第1号
A30: 28 | B30: 解放区 | C30: 焦作市鸿丰贸易有限公司 | D30: 91410802MA40NBG877 | E30: 私营企业 | F30: 小型 | G30: 无 | H30: 42811 | I30: 焦作市解放区解放西路489号马涧商务楼B座3楼306室 | J30: 焦作市鸿丰贸易有限公司沁百分公司 | K30: 91410882MAK6LK8Y73 | L30: 46052 | M30: 小天鹅电器 | N30: 河南省焦作市沁阳市怀庆街道怀府中路2号沁阳商厦有限责任公司商厦店家电商场3号
A31: 29 | B31: 解放区 | C31: 焦作市智信弘达通讯有限责任公司 | D31: 91410802MAEJ6XET97 | E31: 私营企业 | F31: 小型 | G31: 无 | H31: 45770 | I31: 焦作市解放区焦南街道工业路104号新经济产业B座103-16号 | J31: 焦作市智信弘达通讯有限责任公司百大店 | K31: 91410802MAK7CT274B | L31: 46052 | M31: 百货大楼家电超市华为智慧屏专柜 | N31: 河南省焦作市解放区民生街道解放中路1163号百货大楼家电超市一楼1-5号
A32: 30 | B32: 解放区 | C32: 河南世纪平原商贸有限公司 | D32: 91410802777965653C | E32: 私营企业 | F32: 小型 | G32: 无 | H32: 38544 | I32: 焦作市和平街与民主路交叉口西北角 | J32: 河南世纪平原商贸有限公司焦作分公司 | K32: 91410802MA9K9FFU2X | L32: 44477 | M32: 世纪平原百货大楼华为专卖店 | N32: 河南省焦作市解放区解放中路1015-1号焦作市百货大楼有限责任公司中心店一楼商场第1F23号
A33: 31 | B33: 解放区 | C33: 焦作市解放区泽杭家电商行（个体工商户） | D33: 92410802MAK5NB3C0J | E33: 个体工商户 | F33: 微型 | G33: 无 | H33: 46042 | I33: 河南省焦作市解放区民生街道解放中路1163号焦作市百货大楼有限责任公司家电超市店一楼商场第1-9号 | J33: 焦作市解放区泽杭家电商行（个体工商户） | K33: 92410802MAK5NB3C0J | L33: 46042 | M33: 美菱电器 | N33: 河南省焦作市解放区民生街道解放中路1163号焦作市百货大楼有限责任公司家电超市店一楼商场第1-9号
A34: 32 | B34: 马村区 | C34: 焦作市马村区春喜电器店（个体工商户） | D34: 92410804MAE9R9LN4T | E34: 个体工商户 | F34: 微型 | G34: 无 | H34: 45670 | I34: 河南省焦作市马村区马村街道待王路五里堡路口西100米路北6号 | J34: 焦作市马村区春喜电器店（个体工商户） | K34: 92410804MAE9R9LN4T | L34: 45670 | M34: 海尔空调 | N34: 河南省焦作市马村区马村街道待王路五里堡路口西100米路北6号
A35: 33 | B35: 马村区 | C35: 焦作市马村区待办尚亿家电营销店（个体工商户） | D35: 92410804MADCE8TW6E | E35: 个体工商户 | F35: 微型 | G35: 无 | H35: 45351 | I35: 河南省焦作市马村区待王街道待王路加油站斜对面18号 | J35: 焦作市马村区待办尚亿家电营销店（个体工商户） | K35: 92410804MADCE8TW6E | L35: 45351 | M35: 家电仓库直销 | N35: 河南省焦作市马村区待王街道待王路加油站斜对面18号
A36: 34 | B36: 沁阳市 | C36: 沁阳市景棋电器有限公司 | D36: 91410882MAK582NH2B | E36: 私营企业 | F36: 微型 | G36: 无 | H36: 46049 | I36: 沁阳市山王庄镇政府南邻20米001号 | J36: 沁阳市景棋电器有限公司 | K36: 91410882MAK582NH2B | L36: 46049 | M36: 山王庄美的专卖店 | N36: 沁阳市山王庄镇政府南邻20米001号
A37: 35 | B37: 沁阳市 | C37: 沁阳市阳杰通讯有限公司 | D37: 92410882MA40QM8T4K | E37: 私营企业 | F37: 微型 | G37: 无 | H37: 42825 | I37: 沁阳市怀府西路盛世家园7号楼9号商铺 | J37: 沁阳市阳杰通讯有限公司 | K37: 92410882MA40QM8T4K | L37: 42825 | M37: vivo | N37: 沁阳市怀府西路盛世家园7号楼9号商铺
A38: 36 | B38: 沁阳市 | C38: 沁阳市东郁电器有限公司 | D38: 91410882MAK6QRKYX0 | E38: 私营企业 | F38: 小型 | G38: 无 | H38: 46041 | I38: 河南省焦作市沁阳市覃怀街道一號公馆1号楼22号商铺001号 | J38: 沁阳市东郁电器有限公司 | K38: 91410882MAK6QRKYX0 | L38: 46041 | M38: 奥克斯空调 | N38: 河南省焦作市沁阳市覃怀街道一號公馆1号楼22号商铺001号
A39: 37 | B39: 沁阳市 | C39: 沁阳市春枫室内装饰工程有限公司 | D39: 91410882MAEMBYQC93 | E39: 私营企业 | F39: 微型 | G39: 无 | H39: 45812 | I39: 河南省焦作市沁阳市沁园街道鹏海保税博览城11号楼1单元1层113号 | J39: 沁阳市春枫室内装饰工程有限公司 | K39: 91410882MAEMBYQC93 | L39: 2025年6月4日 | M39: 东芝中央空调 | N39: 河南省焦作市沁阳市沁园街道鹏海保税博览城11号楼1单元1层113号
A40: 38 | B40: 沁阳市 | C40: 沁阳市鑫潮家电有限公司 | D40: 92410882MAEDKALG5R | E40: 私营企业 | F40: 小型 | G40: 海信 | H40: 45720 | I40: 沁阳市沁园街道高速路口沙岗村 | J40: 沁阳市鑫潮家电有限公司 | K40: 92410882MAEDKALG5R | L40: 45720 | M40: 海信专卖店 | N40: 沁阳市沁园街道高速路口沙岗村
A41: 39 | B41: 沁阳市 | C41: 沁阳市京德家电经营部 | D41: 92410882MA9LNKPNXN | E41: 私营企业 | F41: 小型 | G41: 天猫 | H41: 44767 | I41: 沁阳市怀府中路罗庄小康楼08-6号 | J41: 沁阳市京德家电经营部 | K41: 92410882MA9LNKPNXN | L41: 44767 | M41: 天猫家电 | N41: 沁阳市怀府中路罗庄小康楼08-6号
A42: 40 | B42: 沁阳市 | C42: 沁阳五联科技发展服务有限公司 | D42: 91410882337183201W | E42: 私营企业 | F42: 微型 | G42: 无 | H42: 42076 | I42: 沁阳市产业集聚区沁北产业园区（西向镇西向村北） | J42: 沁阳五联科技发展服务有限公司 | K42: 91410882337183201W | L42: 42076 | M42: 苏宁易购 | N42: 沁阳市产业集聚区沁北产业园区（西向镇西向村北）
A43: 41 | B43: 沁阳市 | C43: 沁阳市齐鑫电器有限公司 | D43: 92410882MA9M256F9K | E43: 私营企业 | F43: 小型 | G43: 三菱重工海尔中央空调 | H43: 44813 | I43: 沁阳市翡翠名居10楼8号商铺 | J43: 沁阳市齐鑫电器有限公司 | K43: 92410882MA9M256F9K | L43: 44813 | M43: 三菱重工海尔中央空调 | N43: 沁阳市翡翠名居10楼8号商铺
A44: 42 | B44: 沁阳市 | C44: 沁阳市惠汇家电有限公司 | D44: 91410882MAK675RD9E | E44: 私营企业 | F44: 微型 | G44: 无 | H44: 46045 | I44: 河南省焦作市沁阳市柏香镇柏香一街村柏香中心小学往东50米路南001号 | J44: 沁阳市惠汇家电有限公司 | K44: 91410882MAK675RD9E | L44: 46045 | M44: TCL王牌电视(八零电器） | N44: 河南省焦作市沁阳市柏香镇柏香一街村柏香中心小学往东50米路南001号
A45: 43 | B45: 沁阳市 | C45: 沁阳市思肖商贸有限公司 | D45: 91410882MAK5R23778 | E45: 私营企业 | F45: 微型 | G45: 京东 | H45: 46043 | I45: 沁阳市西向镇一街村香港1号院15号商铺 | J45: 沁阳市思肖商贸有限公司 | K45: 91410882MAK5R23778 | L45: 46043 | M45: 思同家电 | N45: 沁阳市西向镇一街村香港1号院
A46: 44 | B46: 沁阳市 | C46: 沁阳市万合商贸有限公司 | D46: 91410882MAK69CWH33 | E46: 私营企业 | F46: 小型 | G46: 无 | H46: 46048 | I46: 河南省焦作市沁阳市王召乡木楼村大街西侧转盘南600米601号 | J46: 沁阳市万合商贸有限公司 | K46: 91410882MAK69CWH33 | L46: 46048 | M46: 格力空调 | N46: 河南省焦作市沁阳市王召乡木楼村大街西侧转盘南600米601号
A47: 45 | B47: 沁阳市 | C47: 沁阳市鑫好电器有限公司 | D47: 91410882MAK66JUY2U | E47: 私营企业 | F47: 小型 | G47: 无 | H47: 2026年1月23日 | I47: 河南省焦作市沁阳市怀庆街道水北关村景和社区2号楼7号铺02号 | J47: 沁阳市鑫好电器有限公司 | K47: 91410882MAK66JUY2U | L47: 46045 | M47: 格力 | N47: 河南省焦作市沁阳市怀庆街道水北关 村景和社区2号楼7号铺02号
A48: 46 | B48: 沁阳市 | C48: 沁阳市轩凯商贸有限公司 | D48: 91410882MAK66MPP5W | E48: 私营企业 | F48: 小型 | G48: 郑州美的、郑州途丰等 | H48: 46045 | I48: 河南省焦作市沁阳市沁园街道鹏海保税博览城1栋107号 | J48: 沁阳市轩凯商贸有限公司 | K48: 91410882MAK66MPP5W | L48: 46045 | M48: 沁阳市轩凯商贸有限公司 | N48: 河南省焦作市沁阳市沁园街道鹏海保税博览城1栋107号
A49: 47 | B49: 沁阳市 | C49: 沁阳市与创科技有限公司 | D49: 91410882MA40A63D0P | E49: 私营企业 | F49: 小型 | G49: 沁阳市与创科技有限公司 | H49: 40354 | I49: 河南省沁阳市自由门 | J49: 沁阳市与创科技有限公司 | K49: 91410882MA40A63D0P | L49: 40354 | M49: 戴尔电脑 | N49: 河南省沁阳市自由门
A50: 48 | B50: 沁阳市 | C50: 沁阳市童垚商贸有限公司 | D50: 91410882MAK50YQKXQ | E50: 私营企业 | F50: 微型 | G50: 京东 | H50: 46045 | I50: 河南省焦作市沁阳市紫陵镇紫陵村委会对面338号 | J50: 沁阳市童垚商贸有限公司 | K50: 91410882MAK50YQKXQ | L50: 46045 | M50: 京东家电 | N50: 河南省焦作市沁阳市紫陵镇紫陵村委会对面338号
A51: 49 | B51: 沁阳市 | C51: 河南新众创商贸有限公司沁阳分公司 | D51: 91410882MAK6YA7N48 | E51: 私营企业 | F51: 微型 | G51: 无 | H51: 2026年1月28日 | I51: 河南省焦作市沁阳市怀庆街道怀府中路2号沁阳商厦4楼 | J51: 河南新众创商贸有限公司沁阳分公司 | K51: 91410882MAK6YA7N48 | L51: 2026年1月28日 | M51: 焦作百货大楼沁阳商厦4楼创维/格力 | N51: 河南省焦作市沁阳市怀庆街道怀府中路2号沁阳商厦4楼
A52: 50 | B52: 沁阳市 | C52: 沁阳市雨阳商贸有限公司 | D52: 91410882MAK5U1AG9P | E52: 私营企业 | F52: 微型 | G52: 格力海尔 | H52: 46044 | I52: 沁阳市紫陵镇紫陵村土地所南邻02号 | J52: 沁阳市雨阳商贸有限公司 | K52: 91410882MAK5U1AG9P | L52: 46044 | M52: 格力 | N52: 沁阳市紫陵镇紫陵村土地所南邻02号
A53: 51 | B53: 沁阳市 | C53: 沁阳市高珊电子设备有限公司 | D53: 92410882MA9GRWNRX2 | E53: 私营企业 | F53: 微型 | G53: 无 | H53: 44324 | I53: 河南省焦作市沁阳市西向镇向城大街西5号 | J53: 沁阳市高珊电子设备有限公司 | K53: 92410882MA9GRWNRX2 | L53: 44324 | M53: 永锋通讯 | N53: 河南省焦作市沁阳市西向镇向城大街西5号
A54: 52 | B54: 沁阳市 | C54: 沁阳市郭静通讯有限公司 | D54: 91410882MAK71PFU4T | E54: 私营企业 | F54: 小型 | G54: 中国移动 | H54: 46048 | I54: 河南省沁阳市西向镇二街村2号 | J54: 沁阳市郭静通讯有限公司 | K54: 91410882MAK71PFU4T | L54: 46048 | M54: 中国移动小三通讯 | N54: 河南省沁阳市西向镇二街村2号
A55: 53 | B55: 温县 | C55: 温县汇鑫电子科技有限公司 | D55: 91410825MA9LBM8M3T | E55: 私营企业 | F55: 微型 | G55: 无 | H55: 44714 | I55: 河南省焦作市温县张羌街道子夏大街金太极时代广场L101号 | J55: 温县汇鑫电子科技有限公司焦作山阳分公司 | K55: 91410811MAK75Y3M9N | L55: 46055 | M55: HUAWEI | N55: 河南省焦作市山阳区山阳路1152号焦作市百货大楼有限责任公司焦东超市一楼商场第6-1号
A56: 54 | B56: 温县 | C56: 河南萍源通讯设备有限公司 | D56: 91410800MACWWB3U7C | E56: 私营企业 | F56: 微型 | G56: 无 | H56: 45167 | I56: 河南省焦作市温县张羌街道子夏大街与黄河路交叉口东南角新胖发祥南排18号 | J56: 河南萍源通讯设备有限公司焦作解放分公司 | K56: 91410802MAK67C835X | L56: 46052 | M56: HUAWEI | N56: 河南省焦作市解放区解放中路1015-1号焦作百货大楼有限责任公司手机城商场第3号
A57: 55 | B57: 温县 | C57: 温县聚鑫融合电子科技中心（个人独资） | D57: 92410825MA44MXTK64 | E57: 私营企业 | F57: 微型 | G57: 无 | H57: 43073 | I57: 温县古温 大街西40号楼 | J57: 温县聚鑫融合电子科技中心（个人独资） | K57: 92410825MA44MXTK64 | L57: 43073 | M57: OPPO官方授权体验店 | N57: 温县古温 大街西40号楼
A58: 56 | B58: 温县 | C58: 温县来知德商贸经营部 | D58: 92410825MA42XCCH4A | E58: 个体工商户 | F58: 微型 | G58: 无 | H58: 41758 | I58: 河南省焦作市温县赵堡镇赵堡村西大街188号 | J58: 温县来知德商贸经营部 | K58: 92410825MA42XCCH4A | L58: 41758 | M58: 海尔智家大兵水电 | N58: 河南省焦作市温县赵堡镇赵堡村西大街188号
A59: 57 | B59: 温县 | C59: 温县鑫宏家电维修门市部 | D59: 92410825MA40ULM99R | E59: 个体工商户 | F59: 微型 | G59: 无 | H59: 41530 | I59: 温县太行路 (交警队加 油站东邻由 南向北第五间) | J59: 温县鑫宏家电维修门市部 | K59: 92410825MA40ULM99R | L59: 41530 | M59: 鑫宏家电 | N59: 温县太行路 (交警队加 油站东邻由 南向北第五间)
A60: 58 | B60: 武陟县 | C60: 焦作玖玲厨卫有限公司 | D60: 91410823MA9L8WUX4G | E60: 私营企业 | F60: 小型 | G60: 无 | H60: 44701 | I60: 河南省焦作市武陟县龙泉街道文化路518号九万里国际商城A6号楼无单元109 | J60: 焦作玖玲厨卫有限公司 | K60: 91410823MA9L8WUX4G | L60: 44701 | M60: 九牧卫浴 | N60: 河南省焦作市武陟县龙泉街道文化路518号九万里国际商城A6号楼无单元109
A61: 59 | B61: 武陟县 | C61: 武陟县志旺家电部（个体工商户） | D61: 92410823MAE6LRM306 | E61: 个体工商户 | F61: 微型 | G61: 无 | H61: 45644 | I61: 河南省焦作市武陟县龙源街道朝阳一路与木栾大道交叉口御景苑10号楼下101号 | J61: 武陟县志旺家电部（个体工商户） | K61: 92410823MAE6LRM306 | L61: 45644 | M61: 美的集团 | N61: 河南省焦作市武陟县龙源街道朝阳一路与木栾大道交叉口御景苑10号楼下101号
A62: 60 | B62: 武陟县 | C62: 武陟县永涛家电销售部 | D62: 92410823MA46BRMC1Y | E62: 个体工商户 | F62: 小型 | G62: 无 | H62: 43518 | I62: 河南省焦作市武陟县西陶镇西陶村华美家具城东10米 | J62: 武陟县永涛家电销售部 | K62: 92410823MA46BRMC1Y | L62: 43518 | M62: 苏宁易购（西陶店） | N62: 河南省焦作市武陟县西陶镇西陶村华美家具城东10米
A63: 61 | B63: 武陟县 | C63: 武陟县永安家电门市部 | D63: 92410823MA41KRT96Q | E63: 个体工商户 | F63: 微型 | G63: 无 | H63: 40548 | I63: 河南省武陟县乔庙乡乔庙街 | J63: 武陟县永安家电门市部 | K63: 92410823MA41KRT96Q | L63: 40548 | M63: 武陟县永安家电门市部 | N63: 河南省武陟县乔庙乡乔庙街
... A179: 177 | B179: 中站区 | C179: 焦作市中站区新鑫源通讯器材商行 | D179: 92410803MA417DX097 | E179: 个体工商户 | F179: 微型 | G179: 无 | H179: 40386 | I179: 焦作市中站区跃进路 | J179: 焦作市中站区新鑫源通讯器材商行 | K179: 92410803MA417DX097 | L179: 40386 | M179: 荣耀专卖店 | N179: 焦作市中站区跃进路

Sheet Sheet2
A1: 公司(商家)营业执照名称 | B1: 纳税人识别号
A2: 孟州市叁仟建筑装修工程有限公司 | B2: 91410883MA9NMA3L2D | C2: =_xlfn.XLOOKUP(A2,[1]匹配结果!$C:$C,[1]匹配结果!$A:$A) -> 91410883MA9NMA3L2D | D2: =C2=B2 -> TRUE
A3: 孟州市晓畅耀电器有限责任公司 | B3: 91410883MAK4PW8P6A | C3: =_xlfn.XLOOKUP(A3,[1]匹配结果!$C:$C,[1]匹配结果!$A:$A) -> 91410883MAK4PW8P6A | D3: =C3=B3 -> TRUE
A4: 焦作市长易商贸有限公司 | B4: 91410883MAEJWDJD7B | C4: =_xlfn.XLOOKUP(A4,[1]匹配结果!$C:$C,[1]匹配结果!$A:$A) -> 91410883MAEJWDJD7B | D4: =C4=B4 -> TRUE
A5: 孟州市六敏家电有限公司 | B5: 91410883MAECPY6A29 | C5: =_xlfn.XLOOKUP(A5,[1]匹配结果!$C:$C,[1]匹配结果!$A:$A) -> 91410883MAECPY6A29 | D5: =C5=B5 -> TRUE
A6: 博爱县鹏哲家电门市部（个体工商户） | B6: 92410822MAEFFKQY6C | C6: =_xlfn.XLOOKUP(A6,[1]匹配结果!$C:$C,[1]匹配结果!$A:$A) -> 92410822MAEFFKQY6C | D6: =C6=B6 -> TRUE
A7: 博爱县万和燃具专卖店 | B7: 92410822MA420X1TXH | C7: =_xlfn.XLOOKUP(A7,[1]匹配结果!$C:$C,[1]匹配结果!$A:$A) -> 92410822MA420X1TXH | D7: =C7=B7 -> TRUE
A8: 博爱县信然家用电器店 | B8: 92410822MA9FHLC03P | C8: =_xlfn.XLOOKUP(A8,[1]匹配结果!$C:$C,[1]匹配结果!$A:$A) -> 92410822MA9FHLC03P | D8: =C8=B8 -> TRUE
A9: 博爱县丰联电子商务有限公司 | B9: 91410822MA4429XR49 | C9: =_xlfn.XLOOKUP(A9,[1]匹配结果!$C:$C,[1]匹配结果!$A:$A) -> 91410822MA4429XR49 | D9: =C9=B9 -> TRUE
A10: 修武县领跃通讯店（个体工商户） | B10: 92410821MAEUQLY99F | C10: =_xlfn.XLOOKUP(A10,[1]匹配结果!$C:$C,[1]匹配结果!$A:$A) -> 92410821MAEUQLY99F | D10: =C10=B10 -> TRUE
A11: 修武县恒雨厨房电器部 | B11: 92410821MA45PCE74T | C11: =_xlfn.XLOOKUP(A11,[1]匹配结果!$C:$C,[1]匹配结果!$A:$A) -> 92410821MA45PCE74T | D11: =C11=B11 -> TRUE
A12: 修武县汇丰家电部 | B12: 92410821MA41CRKG2Q | C12: =_xlfn.XLOOKUP(A12,[1]匹配结果!$C:$C,[1]匹配结果!$A:$A) -> 92410821MA41CRKG2Q | D12: =C12=B12 -> TRUE
A13: 修武县家军厨房电器部 | B13: 92410821MA43RG972F | C13: =_xlfn.XLOOKUP(A13,[1]匹配结果!$C:$C,[1]匹配结果!$A:$A) -> 92410821MA43RG972F | D13: =C13=B13 -> TRUE
... A178: 焦作市中站区新鑫源通讯器材商行 | B178: 92410803MA417DX097 | C178: =_xlfn.XLOOKUP(A178,[1]匹配结果!$C:$C,[1]匹配结果!$A:$A) -> 92410803MA417DX097 | D178: =C178=B178 -> TRUE

Sheet Sheet3
