Workbook

Sheet Sheet1
A1: 附件1
A2: 焦作市规范整合放射治疗等4类医疗服务价格项目
A3: 序号 | B3: 财务分类代码 | C3: 国家项目编码 | D3: 项目名称 | E3: 服务产出 | F3: 价格构成 | G3: 加收项 | H3: 扩展项 | I3: 计价单位 | J3: 市级价格 | N3: 市级价格 | R3: 计价说明 | S3: 医保支付政策
J4: 市三级 | K4: 市二级 | L4: 县级 | M4: 乡级 | N4: 市三级 | O4: 市二级 | P4: 县级 | Q4: 乡级 | S4: 支付类别 | T4: 首自付比例 | U4: 备注
D5: 放射治疗 | E5: 使用说明 1.本类项目以放射治疗为重点，按照放射治疗方式的服务产出设立价格项目。 2.本类项目所称的“价格构成”，指项目价格应涵盖的各类资源消耗，用于确定计价单元的边界。所列“设备投入”包括但不限于操作设备、器具及固定资产投入。 3.本类项目所称“加收项”，指同一项目以不同方式提供或在不同场景应用时，确有必要制定差异化收费标准而细分的一类子项，包括在原项目价格基础上增加或减少收费的情况，具体的加/减收标准（加/减收率或加/减收金额）由各地依权限制定；实际应用中，同时涉及多个加收项的，以项目单价为基础计算各项加/减收水平后，求和得出加/减收金额。 4.本类项目所称“扩展项”，指同一项目下以不同方式提供或在不同场景应用时，只扩展价格项目适用范围、不额外加价的一类子项，子项的价格按主项目执行。 5.本类项目所称“基本物质资源消耗”，指原则上限于不应或不必要与医疗服务项目分割的易耗品，包括但不限于各类消杀用品、储存用品、清洁用品、个人防护用品、垃圾处理用品、润滑剂、棉球、棉签、纱布（垫）、护（尿）垫、治疗巾（单）、中单、护理盘(包）、治疗包、注射器、标签、无菌设备保护套、模具、挡板、铅板（模）、蜡模、凡士林、标记笔、可复用的操作器具、软件（版权、开发、购买）成本等。基本物质资源消耗成本计入项目价格，不另行收费。除基本物质资源消耗以外的可收费医用耗材，按照实际采购价格零差率销售。 6.本类项目中涉及“包括……”“……等”的，属于开放型表述，所指对象不仅局限于表述中列明的事项，也包括未列明的同类事项。
A6: 1 | B6: E | C6: 013401010010000 | D6: 放疗计划制定 | E6: 依据模拟定位，勾画放疗靶区和危及器官，制定放疗剂量、危及器官限量，放疗次数和方式等放疗计划。 | F6: 所定价格涵盖勾画靶区、给定处方剂量、制定放疗计划等过程中所需的人力资源、设备运转成本消耗与基本物耗。 | G6: 01调强计划制定 11立体定向放疗计划制定 | I6: 次 | J6: =VLOOKUP(C6,[1]放射治疗类!$B:$T,16,FALSE) -> 500 | K6: =VLOOKUP(C6,[1]放射治疗类!$B:$T,17,FALSE) -> 450 | L6: =VLOOKUP(C6,[1]放射治疗类!$B:$T,18,FALSE) -> 405 | M6: =VLOOKUP(C6,[1]放射治疗类!$B:$T,19,FALSE) -> 365 | R6: 1.二维放疗计划制定，市三级按245元收费，市二级按220元收费，县级按198元收费，乡级按178元收费。 2.每疗程计划制定超过2次按2次收费。 | S6: 乙类 | T6: 0.1
B7: E | C7: 013401010010001 | D7: 放疗计划制定-调强计划制定（加收） | E7: 依据模拟定位，勾画放疗靶区和危及器官，制定放疗剂量、危及器官限量，放疗次数和方式等调强放疗计划。 | I7: 次 | J7: =VLOOKUP(C7,[1]放射治疗类!$B:$T,16,FALSE) -> 270 | K7: =VLOOKUP(C7,[1]放射治疗类!$B:$T,17,FALSE) -> 243 | L7: =VLOOKUP(C7,[1]放射治疗类!$B:$T,18,FALSE) -> 219 | M7: =VLOOKUP(C7,[1]放射治疗类!$B:$T,19,FALSE) -> 197 | R7: 每疗程计划制定超过2次按2次收费。 | S7: 乙类 | T7: 0.1
B8: E | C8: 013401010010011 | D8: 放疗计划制定-立体定向放疗计划制定（加收） | E8: 依据模拟定位，勾画放疗靶区和危及器官，制定放疗剂量、危及器官限量，放疗次数和方式等立体定向放疗计划。 | I8: 次 | J8: =VLOOKUP(C8,[1]放射治疗类!$B:$T,16,FALSE) -> 270 | K8: =VLOOKUP(C8,[1]放射治疗类!$B:$T,17,FALSE) -> 243 | L8: =VLOOKUP(C8,[1]放射治疗类!$B:$T,18,FALSE) -> 219 | M8: =VLOOKUP(C8,[1]放射治疗类!$B:$T,19,FALSE) -> 197 | R8: 每疗程计划制定超过2次按2次收费。 | S8: 乙类 | T8: 0.1
A9: 2 | B9: E | C9: 013401010020000 | D9: 放疗计划验证 | E9: 依据靶区及计划制定的方案对放疗计划进行验证，必要时进行调整。 | F9: 所定价格涵盖固定、摆位、标记、扫描、获取影像、比较、校正、标记及剂量验证等过程中所需的人力资源、设备运转成本消耗与基本物耗。 | I9: 次 | J9: =VLOOKUP(C9,[1]放射治疗类!$B:$T,16,FALSE) -> 810 | K9: =VLOOKUP(C9,[1]放射治疗类!$B:$T,17,FALSE) -> 729 | L9: =VLOOKUP(C9,[1]放射治疗类!$B:$T,18,FALSE) -> 688 | M9: =VLOOKUP(C9,[1]放射治疗类!$B:$T,19,FALSE) -> 585 | R9: 每疗程验证超过2次按2次收费。 | S9: 乙类 | T9: 0.1
A10: 3 | B10: E | C10: 013401020010000 | D10: 放疗模拟定位 | E10: 应用CT影像技术，进行放疗模拟定位，确定靶区、危及器官，必要时确定射野。 | F10: 所定价格涵盖模具设计与制作、摆位、体位固定、图像扫描、标记、必要时静脉输注对比剂、定位、获取影像、传输、记录等过程中所需的人力资源、设备运转成本消耗与基本物耗。 | G10: 01特殊影像模拟定位 02简易模拟定位减收 11运动管理 21立体定向放疗模拟定位 | I10: 次 | J10: =VLOOKUP(C10,[1]放射治疗类!$B:$T,16,FALSE) -> 600 | K10: =VLOOKUP(C10,[1]放射治疗类!$B:$T,17,FALSE) -> 555 | L10: =VLOOKUP(C10,[1]放射治疗类!$B:$T,18,FALSE) -> 499 | M10: =VLOOKUP(C10,[1]放射治疗类!$B:$T,19,FALSE) -> 471.75 | R10: 1.“模具设计与制作”包括但不限于体位固定器、射线挡块、剂量补偿物等放疗过程中涉及的各类模具制作步骤。 2.每疗程定位超过2次按2次收费。 | S10: 乙类 | T10: 0.1
B11: E | C11: 013401020010001 | D11: 放疗模拟定位-特殊影像模拟定位（加收） | E11: 应用磁共振（MR）、正电子发射计算机断层显像（PET-CT）等特殊影像技术，进行放疗模拟定位，确定靶区、危及器官，必要时确定射野。 | I11: 次 | J11: =VLOOKUP(C11,[1]放射治疗类!$B:$T,16,FALSE) -> 306 | K11: =VLOOKUP(C11,[1]放射治疗类!$B:$T,17,FALSE) -> 275 | L11: =VLOOKUP(C11,[1]放射治疗类!$B:$T,18,FALSE) -> 248 | M11: =VLOOKUP(C11,[1]放射治疗类!$B:$T,19,FALSE) -> 223 | R11: 1.“特殊影像模拟定位”指使用磁共振（MR）、正电子发射计算机断层显像（PET-CT）等影像完成模拟定位。 2.每疗程定位超过2次按2次收费。 | S11: 乙类 | T11: 0.1
B12: E | C12: 013401020010002 | D12: 放疗模拟定位-简易模拟定位（减收） | E12: 应用B超、X线等简易影像技术，进行放疗模拟定位，确定靶区、危及器官，必要时确定射野。 | I12: 次 | J12: =VLOOKUP(C12,[1]放射治疗类!$B:$T,16,FALSE) -> -200 | K12: =VLOOKUP(C12,[1]放射治疗类!$B:$T,17,FALSE) -> -165 | L12: =VLOOKUP(C12,[1]放射治疗类!$B:$T,18,FALSE) -> -148 | M12: =VLOOKUP(C12,[1]放射治疗类!$B:$T,19,FALSE) -> -140 | R12: 1.简易模拟定位指使用B超、X线定位。 2.每疗程定位超过2次按2次收费。 | S12: 乙类 | T12: 0.1
B13: E | C13: 013401020010011 | D13: 放疗模拟定位-运动管理（加收） | E13: 应用CT影像技术，进行运动管理的放疗模拟定位，确定靶区、危及器官，必要时确定射野。 | I13: 次 | J13: =VLOOKUP(C13,[1]放射治疗类!$B:$T,16,FALSE) -> 90 | K13: =VLOOKUP(C13,[1]放射治疗类!$B:$T,17,FALSE) -> 81 | L13: =VLOOKUP(C13,[1]放射治疗类!$B:$T,18,FALSE) -> 73 | M13: =VLOOKUP(C13,[1]放射治疗类!$B:$T,19,FALSE) -> 66 | R13: 每疗程定位超过2次按2次收费。 | S13: 乙类 | T13: 0.1
B14: E | C14: 013401020010021 | D14: 放疗模拟定位-立体定向放疗模拟定位（加收） | E14: 应用CT影像技术，进行立体定向的放疗模拟定位，确定靶区、危及器官，必要时确定射野。 | I14: 次 | J14: =VLOOKUP(C14,[1]放射治疗类!$B:$T,16,FALSE) -> 90 | K14: =VLOOKUP(C14,[1]放射治疗类!$B:$T,17,FALSE) -> 81 | L14: =VLOOKUP(C14,[1]放射治疗类!$B:$T,18,FALSE) -> 73 | M14: =VLOOKUP(C14,[1]放射治疗类!$B:$T,19,FALSE) -> 66 | R14: 每疗程定位超过2次按2次收费。 | S14: 乙类 | T14: 0.1
A15: 4 | B15: E | C15: 013401030010000 | D15: 外照射治疗（普通） | E15: 使用医用电子直线加速器产生电子线和光子线，实施体外照射放射治疗。 | F15: 所定价格涵盖摆位、体位固定、操作设备出束治疗、实时监控、必要时使用射线档块、剂量补偿物等过程中所需的人力资源、设备运转成本消耗与基本物耗。 | G15: 01超长靶区 11超高剂量率放疗 | I15: 次 | J15: =VLOOKUP(C15,[1]放射治疗类!$B:$T,16,FALSE) -> 369 | K15: =VLOOKUP(C15,[1]放射治疗类!$B:$T,17,FALSE) -> 332 | L15: =VLOOKUP(C15,[1]放射治疗类!$B:$T,18,FALSE) -> 299 | M15: =VLOOKUP(C15,[1]放射治疗类!$B:$T,19,FALSE) -> 269 | S15: 乙类 | T15: 0.1
B16: E | C16: 013401030010001 | D16: 外照射治疗（普通）-超长靶区（加收） | E16: 使用医用电子直线加速器产生电子线和光子线，实施体外照射超长靶区放射治疗。 | I16: 次 | J16: =VLOOKUP(C16,[1]放射治疗类!$B:$T,16,FALSE) -> 117 | K16: =VLOOKUP(C16,[1]放射治疗类!$B:$T,17,FALSE) -> 105 | L16: =VLOOKUP(C16,[1]放射治疗类!$B:$T,18,FALSE) -> 95 | M16: =VLOOKUP(C16,[1]放射治疗类!$B:$T,19,FALSE) -> 86 | R16: “超长靶区”，指直线加速器电子线射野大于20×20cm，X线射野单边大于40cm。 | S16: 乙类 | T16: 0.1
A17: 5 | B17: E | C17: 013401030020000 | D17: 外照射治疗（光子线-适形） | E17: 基于放疗计划，使用医用电子直线加速器或钴-60远距离治疗机等产生光子射线，实施外照射治疗。 | F17: 所定价格涵盖治疗摆位、体位固定、操作设备、出束治疗、实时监控、必要时使用射线档块、剂量补偿物等过程中所需的人力资源、设备运转成本消耗与基本物耗。 | G17: 01超长靶区 11超高剂量率放疗 21图像引导 | I17: 次 | J17: =VLOOKUP(C17,[1]放射治疗类!$B:$T,16,FALSE) -> 801 | K17: =VLOOKUP(C17,[1]放射治疗类!$B:$T,17,FALSE) -> 721 | L17: =VLOOKUP(C17,[1]放射治疗类!$B:$T,18,FALSE) -> 649 | M17: =VLOOKUP(C17,[1]放射治疗类!$B:$T,19,FALSE) -> 584 | S17: 乙类 | T17: 0.1
B18: E | C18: 013401030020001 | D18: 外照射治疗（光子线-适形）-超长靶区（加收） | E18: 基于放疗计划，使用医用电子直线加速器或钴-60远距离治疗机等产生光子射线，实施超长靶区外照射治疗。 | I18: 次 | J18: =VLOOKUP(C18,[1]放射治疗类!$B:$T,16,FALSE) -> 117 | K18: =VLOOKUP(C18,[1]放射治疗类!$B:$T,17,FALSE) -> 105 | L18: =VLOOKUP(C18,[1]放射治疗类!$B:$T,18,FALSE) -> 95 | M18: =VLOOKUP(C18,[1]放射治疗类!$B:$T,19,FALSE) -> 86 | R18: 1.“超长靶区”，指直线加速器电子线射野大于20×20cm，X线射野单边大于40cm。 2.全身照射治疗市三级加收900元/次，市二级加收810元/次，县级加收729元/次，乡级加收656元/次。 | S18: 乙类 | T18: 0.1
A19: 6 | B19: E | C19: 013401030030000 | D19: 外照射治疗（光子线-调强） | E19: 基于放疗计划，使用医用电子直线加速器等产生的光子线，根据肿瘤靶区和其周围危及器官的三维空间关系进行束流强度调节，实施外照射治疗。 | F19: 所定价格涵盖治疗摆位、体位固定、操作设备、出束治疗、实时监控、必要时使用射线档块、剂量补偿物等过程中所需的人力资源、设备运转成本消耗与基本物耗。 | G19: 01超长靶区 11超高剂量率放疗 21自适应放疗 31运动管理 41图像引导 51断层调强放疗 52容积旋转调强放疗 | I19: 次 | J19: =VLOOKUP(C19,[1]放射治疗类!$B:$T,16,FALSE) -> 871 | K19: =VLOOKUP(C19,[1]放射治疗类!$B:$T,17,FALSE) -> 784 | L19: =VLOOKUP(C19,[1]放射治疗类!$B:$T,18,FALSE) -> 695 | M19: =VLOOKUP(C19,[1]放射治疗类!$B:$T,19,FALSE) -> 585 | S19: 乙类 | T19: 0.1
B20: E | C20: 013401030030001 | D20: 外照射治疗（光子线-调强）-超长靶区（加收） | E20: 基于放疗计划，使用医用电子直线加速器等产生的光子线，根据肿瘤靶区和其周围危及器官的三维空间关系进行束流强度调节，实施超长靶区外照射治疗。 | I20: 次 | J20: =VLOOKUP(C20,[1]放射治疗类!$B:$T,16,FALSE) -> 117 | K20: =VLOOKUP(C20,[1]放射治疗类!$B:$T,17,FALSE) -> 105 | L20: =VLOOKUP(C20,[1]放射治疗类!$B:$T,18,FALSE) -> 95 | M20: =VLOOKUP(C20,[1]放射治疗类!$B:$T,19,FALSE) -> 86 | R20: 1.“超长靶区”，指直线加速器电子线射野大于20×20cm，X线射野单边大于40cm。2.全身照射治疗市三级加收900元/次，市二级加收810元/次，县级加收729元/次，乡级加收656元/次。 | S20: 乙类 | T20: 0.1
B21: E | C21: 013401030030021 | D21: 外照射治疗（光子线-调强）-自适应放疗（加收） | E21: 基于放疗计划，使用医用电子直线加速器等产生的光子线，根据肿瘤靶区和其周围危及器官的三维空间关系进行束流强度调节，实施自适应放疗外照射治疗。 | I21: 次 | J21: =VLOOKUP(C21,[1]放射治疗类!$B:$T,16,FALSE) -> 450 | K21: =VLOOKUP(C21,[1]放射治疗类!$B:$T,17,FALSE) -> 405 | L21: =VLOOKUP(C21,[1]放射治疗类!$B:$T,18,FALSE) -> 365 | M21: =VLOOKUP(C21,[1]放射治疗类!$B:$T,19,FALSE) -> 330 | R21: 1.“自适应放疗”，指在放疗过程中根据肿瘤退缩情况动态调整放疗计划的技术。 2.一个疗程开展自适应放疗3次以上按3次收费。 | S21: 丙类
B22: E | C22: 013401030030031 | D22: 外照射治疗（光子线-调强）-运动管理（加收） | E22: 基于放疗计划，使用医用电子直线加速器等产生的光子线，根据肿瘤靶区和其周围危及器官的三维空间关系进行束流强度调节，运动管理下实施外照射治疗。 | I22: 次 | J22: =VLOOKUP(C22,[1]放射治疗类!$B:$T,16,FALSE) -> 90 | K22: =VLOOKUP(C22,[1]放射治疗类!$B:$T,17,FALSE) -> 81 | L22: =VLOOKUP(C22,[1]放射治疗类!$B:$T,18,FALSE) -> 73 | M22: =VLOOKUP(C22,[1]放射治疗类!$B:$T,19,FALSE) -> 66 | S22: 乙类 | T22: 0.1
B23: E | C23: 013401030030051 | D23: 外照射治疗（光子线-调强）-断层调强放疗（加收） | E23: 基于放疗计划，使用医用电子直线加速器等产生的光子线，根据肿瘤靶区和其周围危及器官的三维空间关系进行束流强度调节，实施断层调强外照射治疗。 | I23: 次 | J23: =VLOOKUP(C23,[1]放射治疗类!$B:$T,16,FALSE) -> 87 | K23: =VLOOKUP(C23,[1]放射治疗类!$B:$T,17,FALSE) -> 78 | L23: =VLOOKUP(C23,[1]放射治疗类!$B:$T,18,FALSE) -> 70 | M23: =VLOOKUP(C23,[1]放射治疗类!$B:$T,19,FALSE) -> 59 | S23: 乙类 | T23: 0.1
B24: E | C24: 013401030030052 | D24: 外照射治疗（光子线-调强）-容积旋转调强放疗（加收） | E24: 基于放疗计划，使用医用电子直线加速器等产生的光子线，根据肿瘤靶区和其周围危及器官的三维空间关系进行束流强度调节，实施容积旋转调强外照射治疗。 | I24: 次 | J24: =VLOOKUP(C24,[1]放射治疗类!$B:$T,16,FALSE) -> 87 | K24: =VLOOKUP(C24,[1]放射治疗类!$B:$T,17,FALSE) -> 78 | L24: =VLOOKUP(C24,[1]放射治疗类!$B:$T,18,FALSE) -> 70 | M24: =VLOOKUP(C24,[1]放射治疗类!$B:$T,19,FALSE) -> 59 | S24: 乙类 | T24: 0.1
A25: 7 | B25: E | C25: 013401030040000 | D25: 外照射治疗（光子线-立体定向） | E25: 基于放疗计划，使用医用直线加速器、伽玛刀等产生的光子线，对肿瘤靶区进行大分割、高剂量短疗程放疗模式，实施外照射治疗。 | F25: 所定价格涵盖治疗摆位、体位固定、图像引导、操作设备、高剂量出束治疗、实时监控等过程中所需的人力资源、设备运转成本消耗与基本物耗。 | G25: 01自适应放疗 11运动管理 21超高剂量率放疗 | I25: 疗程 | J25: =VLOOKUP(C25,[1]放射治疗类!$B:$T,16,FALSE) -> 25200 | K25: =VLOOKUP(C25,[1]放射治疗类!$B:$T,17,FALSE) -> 22680 | L25: =VLOOKUP(C25,[1]放射治疗类!$B:$T,18,FALSE) -> 20412 | M25: =VLOOKUP(C25,[1]放射治疗类!$B:$T,19,FALSE) -> 18371 | R25: 1.肿瘤单次吸收剂量不小于5Gy。 2.3次及以下的，首次按36%收费，第2次治疗起按22%收费，此说明也适用于加收项。 3.多部位肿瘤需同时做2个以上治疗的按2个收费。 | S25: 乙类 | T25: 0.1
B26: E | C26: 013401030040001 | D26: 外照射治疗（光子线-立体定向）-自适应放疗（加收） | E26: 基于放疗计划，使用医用直线加速器、伽玛刀等产生的光子线，对肿瘤靶区进行大分割、高剂量短疗程放疗模式，实施自适应外照射治疗。 | I26: 疗程 | J26: =VLOOKUP(C26,[1]放射治疗类!$B:$T,16,FALSE) -> 1350 | K26: =VLOOKUP(C26,[1]放射治疗类!$B:$T,17,FALSE) -> 1215 | L26: =VLOOKUP(C26,[1]放射治疗类!$B:$T,18,FALSE) -> 1095 | M26: =VLOOKUP(C26,[1]放射治疗类!$B:$T,19,FALSE) -> 990 | R26: “自适应放疗”，指在放疗过程中根据肿瘤退缩情况动态调整放疗计划的技术。 | S26: 丙类
B27: E | C27: 013401030040011 | D27: 外照射治疗（光子线-立体定向）-运动管理（加收） | E27: 基于放疗计划，使用医用直线加速器、伽玛刀等产生的光子线，对肿瘤靶区进行大分割、高剂量短疗程放疗模式，运动管理下实施外照射治疗。 | I27: 疗程 | J27: =VLOOKUP(C27,[1]放射治疗类!$B:$T,16,FALSE) -> 450 | K27: =VLOOKUP(C27,[1]放射治疗类!$B:$T,17,FALSE) -> 405 | L27: =VLOOKUP(C27,[1]放射治疗类!$B:$T,18,FALSE) -> 365 | M27: =VLOOKUP(C27,[1]放射治疗类!$B:$T,19,FALSE) -> 330 | R27: “运动管理”，指基于植入金标、光学体表监测、呼吸控制等技术对周期性运动的肿瘤靶区进行限制、追踪照射或在周期性运动的特定时相控制机器出束照射。 | S27: 乙类 | T27: 0.1
A28: 8 | B28: E | C28: 013401030050000 | D28: 外照射治疗（质子放疗） | E28: 基于放疗计划，使用医用粒子加速器产生的质子射线，对肿瘤靶区进行束流强度调节，实施外照射治疗。 | F28: 所定价格涵盖治疗摆位、体位固定、图像引导、操作设备、运动管理、出束治疗、实时监控、必要时使用射线档块、剂量补偿物等过程中所需的人力资源、设备运转成本消耗与基本物耗。 | I28: 次 | R28: 每增加一次加收15000元，同一适应症每疗程最高不超过170000元。 | S28: 丙类
A29: 9 | B29: E | C29: 013401030060000 | D29: 外照射治疗（重离子放疗） | E29: 基于放疗计划，使用医用粒子加速器产生的重离子射线，对肿瘤靶区进行束流强度调节，实施外照射治疗。 | F29: 所定价格涵盖治疗摆位、体位固定、图像引导、操作设备、运动管理、出束治疗、实时监控、必要时使用射线档块、剂量补偿物等过程中所需的人力资源、设备运转成本消耗与基本物耗。 | I29: 次 | R29: 每增加一次加收16500元，同一适应症每疗程最高不超过198000元。 | S29: 丙类
A30: 10 | B30: E | C30: 013401040010000 | D30: 近距离治疗（后装） | E30: 通过在人体内置入施源器后导入放射源进行的治疗。 | F30: 所定价格涵盖模拟定位、制定计划、剂量验证、置入施源器、组织人员插植、导入放射源、照射、环境辐射监测、必要时回收放射源、解除施源器等过程中所需的人力资源及设备运转成本消耗与基本物耗。 | G30: 01CT模拟定位 02MR模拟定位 11二维近距离治疗计划 12三维近距离治疗计划 21组织间插植/放射粒子植入 | I30: 次 | J30: =VLOOKUP(C30,[1]放射治疗类!$B:$T,16,FALSE) -> 1350 | K30: =VLOOKUP(C30,[1]放射治疗类!$B:$T,17,FALSE) -> 1215 | L30: =VLOOKUP(C30,[1]放射治疗类!$B:$T,18,FALSE) -> 1094 | M30: =VLOOKUP(C30,[1]放射治疗类!$B:$T,19,FALSE) -> 1033 | R30: 1.“近距离治疗”包括但不限于“后装放射治疗”等一次性放射治疗及永久性植入放射性粒子治疗。 2.不与“放疗模拟定位”“放疗计划制定”“放疗计划验证”同时收取。 | S30: 乙类 | T30: 0.1
B31: E | C31: 013401040010001 | D31: 近距离治疗（后装）-CT模拟定位（加收） | E31: 通过CT模拟定位在人体内置入施源器后导入放射源进行的治疗。 | I31: 次 | J31: =VLOOKUP(C31,[1]放射治疗类!$B:$T,16,FALSE) -> 162 | K31: =VLOOKUP(C31,[1]放射治疗类!$B:$T,17,FALSE) -> 146 | L31: =VLOOKUP(C31,[1]放射治疗类!$B:$T,18,FALSE) -> 131 | M31: =VLOOKUP(C31,[1]放射治疗类!$B:$T,19,FALSE) -> 118 | S31: 乙类 | T31: 0.1
B32: E | C32: 013401040010002 | D32: 近距离治疗（后装）-MR模拟定位（加收） | E32: 通过MR模拟定位在人体内置入施源器后导入放射源进行的治疗。 | I32: 次 | J32: =VLOOKUP(C32,[1]放射治疗类!$B:$T,16,FALSE) -> 306 | K32: =VLOOKUP(C32,[1]放射治疗类!$B:$T,17,FALSE) -> 275 | L32: =VLOOKUP(C32,[1]放射治疗类!$B:$T,18,FALSE) -> 248 | M32: =VLOOKUP(C32,[1]放射治疗类!$B:$T,19,FALSE) -> 223 | S32: 乙类 | T32: 0.1
B33: E | C33: 013401040010011 | D33: 近距离治疗（后装）-二维近距离治疗计划（加收） | E33: 通过二维近距离治疗计划在人体内置入施源器后导入放射源进行的治疗。 | I33: 次 | J33: =VLOOKUP(C33,[1]放射治疗类!$B:$T,16,FALSE) -> 200 | K33: =VLOOKUP(C33,[1]放射治疗类!$B:$T,17,FALSE) -> 180 | L33: =VLOOKUP(C33,[1]放射治疗类!$B:$T,18,FALSE) -> 162 | M33: =VLOOKUP(C33,[1]放射治疗类!$B:$T,19,FALSE) -> 146 | S33: 乙类 | T33: 0.1
B34: E | C34: 013401040010012 | D34: 近距离治疗（后装）-三维近距离治疗计划（加收） | E34: 通过三维近距离治疗计划在人体内置入施源器后导入放射源进行的治疗。 | I34: 次 | J34: =VLOOKUP(C34,[1]放射治疗类!$B:$T,16,FALSE) -> 714 | K34: =VLOOKUP(C34,[1]放射治疗类!$B:$T,17,FALSE) -> 643 | L34: =VLOOKUP(C34,[1]放射治疗类!$B:$T,18,FALSE) -> 579 | M34: =VLOOKUP(C34,[1]放射治疗类!$B:$T,19,FALSE) -> 521 | S34: 乙类 | T34: 0.1
B35: E | C35: 013401040010021 | D35: 近距离治疗（后装）-组织间插植/放射粒子植入（加收） | E35: 通过组织间插植/放射粒子植入在人体内置入施源器后导入放射源进行的治疗。 | I35: 次 | J35: =VLOOKUP(C35,[1]放射治疗类!$B:$T,16,FALSE) -> 450 | K35: =VLOOKUP(C35,[1]放射治疗类!$B:$T,17,FALSE) -> 405 | L35: =VLOOKUP(C35,[1]放射治疗类!$B:$T,18,FALSE) -> 365 | M35: =VLOOKUP(C35,[1]放射治疗类!$B:$T,19,FALSE) -> 329 | S35: 乙类 | T35: 0.1
A36: 11 | B36: E | C36: 013402000010000 | D36: 内照射治疗（核素常规） | E36: 通过口服、注射植入放射性核素，达到治疗恶性肿瘤和其他疾病的目的。 | F36: 所定价格涵盖治疗计划制定、放射性药品的标记与分装、注射或口服给药、防护器材使用、放射性废弃物处理、环境监测等步骤所需的人力资源与基本物质资源消耗。 | I36: 次 | J36: =VLOOKUP(C36,[1]放射治疗类!$B:$T,16,FALSE) -> 230 | K36: =VLOOKUP(C36,[1]放射治疗类!$B:$T,17,FALSE) -> 207 | L36: =VLOOKUP(C36,[1]放射治疗类!$B:$T,18,FALSE) -> 195 | M36: =VLOOKUP(C36,[1]放射治疗类!$B:$T,19,FALSE) -> 165 | R36: 1.每50毫居加收100%，限加收2次。 2.99锝(云克)治疗每次按20%收费。 | S36: 乙类 | T36: 0.1
A37: 12 | B37: E | C37: 013402000020000 | D37: 内照射治疗（核素介入） | E37: 通过组织间介入或血管介入方式植入放射性核素，辐射杀死病变细胞或缩小病灶，从而达到治疗癌症和其他疾病的目的。 | F37: 所定价格涵盖治疗计划制定、放射性药品的标记与分装、经皮穿刺或经血管介入给药、防护器材使用、放射性废弃物处理、环境监测等步骤所需的人力资源与基本物质资源消耗。 | I37: 次 | J37: =VLOOKUP(C37,[1]放射治疗类!$B:$T,16,FALSE) -> 1161 | K37: =VLOOKUP(C37,[1]放射治疗类!$B:$T,17,FALSE) -> 1045 | L37: =VLOOKUP(C37,[1]放射治疗类!$B:$T,18,FALSE) -> 941 | M37: =VLOOKUP(C37,[1]放射治疗类!$B:$T,19,FALSE) -> 847 | S37: 乙类 | T37: 0.1
A38: 13 | B38: E | C38: 013402000030000 | D38: 放射性核素敷贴治疗 | E38: 通过放射性核素嵌入的敷贴，覆盖在病变区域，提供高剂量局部辐射，达到治疗浅表病变的目的。 | F38: 所定价格涵盖治疗计划制定、放射性药品的标记与分装、制备、敷贴、防护器材使用、放射性废弃物处理、环境监测等步骤所需的人力资源与基本物质资源消耗。 | I38: 次 | J38: =VLOOKUP(C38,[1]放射治疗类!$B:$T,16,FALSE) -> 39 | K38: =VLOOKUP(C38,[1]放射治疗类!$B:$T,17,FALSE) -> 35 | L38: =VLOOKUP(C38,[1]放射治疗类!$B:$T,18,FALSE) -> 33 | M38: =VLOOKUP(C38,[1]放射治疗类!$B:$T,19,FALSE) -> 28 | R38: 用敷贴器治疗时每照射野为一次。 | S38: 乙类 | T38: 0.1
A39: 14 | B39: E | C39: 013401030080000 | D39: 术中放疗 | E39: 在术中进行的放射治疗。 | F39: 所定价格涵盖暴露瘤床、确定照射区域、遮挡正常组织器官、机器操作、设备照射、阅单等步骤所需的人力资源与基本物质资源消耗。 | I39: 次 | J39: =VLOOKUP(C39,[1]放射治疗类!$B:$T,16,FALSE) -> 945 | K39: =VLOOKUP(C39,[1]放射治疗类!$B:$T,17,FALSE) -> 851 | L39: =VLOOKUP(C39,[1]放射治疗类!$B:$T,18,FALSE) -> 766 | M39: =VLOOKUP(C39,[1]放射治疗类!$B:$T,19,FALSE) -> 689 | R39: 1.不再收取耗材费用。 2.不与“内照射治疗（核素介入）”同时收费。 | S39: 乙类 | T39: 0.1
D40: 妇科 | E40: 使用说明： 1.本类项目以妇科为重点，按照妇科相关主要环节的服务产出设立医疗服务价格项目。 2.本类项目所称的“价格构成”，指项目价格应涵盖的各类资源消耗，用于确定计价单元的边界，是制定调整项目价格考虑的测算因子，不应作为临床技术标准理解，不是实际操作方式、路径、步骤、程序的强制性要求。所列“设备投入”包括但不限于操作设备、器械及固定资产投入。 3.本类项目所称的“加收项”，指同一项目以不同方式提供或在不同场景应用时，确有必要制定差异化收费标准而细分的一类子项，包括在原项目价格基础上增加或减少收费的情况。实际应用中，同时涉及多个加收项的，以项目单价为基础计算各项的加/减收水平后，求和得出加/减收金额。 4.本类项目所称的“扩展项”，指同一项目下以不同方式提供或在不同场景应用时，只扩展价格项目适用范围、不额外加价的一类子项，子项的价格按主项目执行。 5.本类项目所称的“基本物耗”指原则上限于不应或不必要与医疗服务项目分割的易耗品，包括但不限于各类消杀灭菌用品、储存用品、清洁用品、个人防护用品、垃圾处理用品、滑石粉、标签、防渗漏垫、中单、护（尿）垫、棉球、棉签、纱布（垫）、治疗护理盘（包）、治疗巾（单）、手术巾（单）、手术包、注射器、可复用的操作器具、冲洗工具、冲洗液、润滑剂等。基本物耗成本计入项目价格，不另行收费。除基本物耗以外的可收费医用耗材，按照实际采购价格零差率销售。 6.本类项目价格构成中所称的“穿刺”为主项操作涉及的必要穿刺技术，价格构成中的穿刺操作不可收取相关费用；独立穿刺项目可按相应治疗价格项目收取。 7.本类项目中涉及“包括……”“…… 等”的，属于开放型表述，所指对象不仅局限于表述中列明的事项，也包括未列明的同类事项。 8.本类项目中项目涉及的腹腔镜、宫腔镜等常规内镜下手术已包含在价格构成中，医疗机构在开展相关操作时，执行与开放手术相同的价格标准。 9.本类项目中所涉及的子宫相关价格项目，如患者为双子宫且需同时诊疗的，按两次收费计价。 10.本类项目项目所称的“儿童”，指6周岁及以下。周岁的计算方法以法律相关规定为准。 11.手术类治疗项目的计费方式执行我省现行价格规范“手术总说明（项目编码：33）”。
...
